BEGIN:VCALENDAR
CALSCALE:GREGORIAN
X-WR-TIMEZONE;VALUE=TEXT:GMT
PRODID:PEAK Corporation - piCal -
X-WR-CALNAME;VALUE=TEXT:ミーティング
VERSION:2.0
METHOD:PUBLISH
BEGIN:VTIMEZONE
TZID:GMT
BEGIN:STANDARD
DTSTART:19390101T000000
TZOFFSETFROM:+0000
TZOFFSETTO:+0000
TZNAME:GMT
END:STANDARD
END:VTIMEZONE
BEGIN:VEVENT
DTSTART:20040919T010000Z
DTEND:20040919T033000Z
LOCATION:サポセン
TRANSP:OPAQUE
SEQUENCE:6
UID:C1466A55-6A44-11DA-98E2-000A95DAEA04
DTSTAMP:20051211T134948Z
CATEGORIES:
DESCRIPTION:
SUMMARY:ミーティング
PRIORITY:0
CLASS:PUBLIC
END:VEVENT
END:VCALENDAR
