BEGIN:VCALENDAR
CALSCALE:GREGORIAN
X-WR-TIMEZONE;VALUE=TEXT:GMT
PRODID:PEAK Corporation - piCal -
X-WR-CALNAME;VALUE=TEXT:茅ヶ崎海岸の会・勉強会
VERSION:2.0
METHOD:PUBLISH
BEGIN:VTIMEZONE
TZID:GMT
BEGIN:STANDARD
DTSTART:19390101T000000
TZOFFSETFROM:+0000
TZOFFSETTO:+0000
TZNAME:GMT
END:STANDARD
END:VTIMEZONE
BEGIN:VEVENT
DTSTART:20040821T050000Z
DTEND:20040821T070000Z
LOCATION:茅ヶ崎市役所分庁舎５階Ｄ会議室
TRANSP:OPAQUE
SEQUENCE:1
UID:C146722A-6A44-11DA-98E2-000A95DAEA04
DTSTAMP:20051211T134948Z
CATEGORIES:
DESCRIPTION:海岸地区の開発事業に関して、様々な噂が流れています。\nそこでこの際、市はどういう計画をしているのか、どんな「まちづくり」を目指しているのかなどを、都市計画課、環境政策課、海浜課などの職員の方々に解りやすく説明していただくことになりました。\n関心を持っている方々同士で、実状を把握し、知識を共有するとこからスタートしたいと考えています。
SUMMARY:茅ヶ崎海岸の会・勉強会
PRIORITY:0
CLASS:PUBLIC
END:VEVENT
END:VCALENDAR
