BEGIN:VCALENDAR
CALSCALE:GREGORIAN
X-WR-TIMEZONE;VALUE=TEXT:GMT
PRODID:PEAK Corporation - piCal -
X-WR-CALNAME;VALUE=TEXT:メーリングリスト立ち上げ
VERSION:2.0
METHOD:PUBLISH
BEGIN:VTIMEZONE
TZID:GMT
BEGIN:STANDARD
DTSTART:19390101T000000
TZOFFSETFROM:+0000
TZOFFSETTO:+0000
TZNAME:GMT
END:STANDARD
END:VTIMEZONE
BEGIN:VEVENT
DTSTART;VALUE=DATE:20040824
DTEND;VALUE=DATE:20040825
LOCATION:
TRANSP:OPAQUE
SEQUENCE:2
UID:C1467805-6A44-11DA-98E2-000A95DAEA04
DTSTAMP:20051211T134948Z
CATEGORIES:
DESCRIPTION:コアメンバー用ML
SUMMARY:メーリングリスト立ち上げ
PRIORITY:0
CLASS:PUBLIC
END:VEVENT
END:VCALENDAR
