BEGIN:VCALENDAR
CALSCALE:GREGORIAN
X-WR-TIMEZONE;VALUE=TEXT:GMT
PRODID:PEAK Corporation - piCal -
X-WR-CALNAME;VALUE=TEXT:はまけい総会打ち合わせ
VERSION:2.0
METHOD:PUBLISH
BEGIN:VTIMEZONE
TZID:GMT
BEGIN:STANDARD
DTSTART:19390101T000000
TZOFFSETFROM:+0000
TZOFFSETTO:+0000
TZNAME:GMT
END:STANDARD
END:VTIMEZONE
BEGIN:VEVENT
DTSTART:20050122T090000Z
DTEND:20050122T110000Z
LOCATION:サポートセンター
TRANSP:OPAQUE
SEQUENCE:3
UID:C1469407-6A44-11DA-98E2-000A95DAEA04
DTSTAMP:20051211T134948Z
CATEGORIES:
DESCRIPTION:場所：サポートセンター
SUMMARY:はまけい総会打ち合わせ
PRIORITY:0
CLASS:PUBLIC
END:VEVENT
END:VCALENDAR
