BEGIN:VCALENDAR
CALSCALE:GREGORIAN
X-WR-TIMEZONE;VALUE=TEXT:GMT
PRODID:PEAK Corporation - piCal -
X-WR-CALNAME;VALUE=TEXT:茅ヶ崎漁港地区 地区計画（案）説明会
VERSION:2.0
METHOD:PUBLISH
BEGIN:VTIMEZONE
TZID:GMT
BEGIN:STANDARD
DTSTART:19390101T000000
TZOFFSETFROM:+0000
TZOFFSETTO:+0000
TZNAME:GMT
END:STANDARD
END:VTIMEZONE
BEGIN:VEVENT
DTSTART:20051218T043000Z
DTEND:20051218T053000Z
LOCATION:市役所本庁舎大会議室AB
TRANSP:OPAQUE
SEQUENCE:0
UID:pical060-01471e1f74a54dac903b8813e6e2bde8
DTSTAMP:20051217T025853Z
CATEGORIES:
DESCRIPTION:
SUMMARY:茅ヶ崎漁港地区 地区計画（案）説明会
PRIORITY:0
CLASS:PUBLIC
END:VEVENT
END:VCALENDAR
