BEGIN:VCALENDAR
CALSCALE:GREGORIAN
X-WR-TIMEZONE;VALUE=TEXT:GMT
PRODID:PEAK Corporation - piCal -
X-WR-CALNAME;VALUE=TEXT:市民ネットワークミーティング
VERSION:2.0
METHOD:PUBLISH
BEGIN:VTIMEZONE
TZID:GMT
BEGIN:STANDARD
DTSTART:19390101T000000
TZOFFSETFROM:+0000
TZOFFSETTO:+0000
TZNAME:GMT
END:STANDARD
END:VTIMEZONE
BEGIN:VEVENT
DTSTART:20051218T060000Z
DTEND:20051218T080000Z
LOCATION:サポートセンター
TRANSP:OPAQUE
SEQUENCE:2
UID:pical060-178037d5c09445a38fb3c457664865d5
DTSTAMP:20051217T065617Z
CATEGORIES:
DESCRIPTION:
SUMMARY:市民ネットワークミーティング
PRIORITY:0
CLASS:PUBLIC
END:VEVENT
END:VCALENDAR
