BEGIN:VCALENDAR
CALSCALE:GREGORIAN
X-WR-TIMEZONE;VALUE=TEXT:GMT
PRODID:PEAK Corporation - piCal -
X-WR-CALNAME;VALUE=TEXT:街頭署名活動（第２回）
VERSION:2.0
METHOD:PUBLISH
BEGIN:VTIMEZONE
TZID:GMT
BEGIN:STANDARD
DTSTART:19390101T000000
TZOFFSETFROM:+0000
TZOFFSETTO:+0000
TZNAME:GMT
END:STANDARD
END:VTIMEZONE
BEGIN:VEVENT
DTSTART:20051223T030000Z
DTEND:20051223T060000Z
LOCATION:駅南口・北口
TRANSP:OPAQUE
SEQUENCE:0
UID:pical060-043ff84455f18dadc93b19a944744f53
DTSTAMP:20051221T071145Z
CATEGORIES:
DESCRIPTION:
SUMMARY:街頭署名活動（第２回）
PRIORITY:0
CLASS:PUBLIC
END:VEVENT
END:VCALENDAR
