BEGIN:VCALENDAR
CALSCALE:GREGORIAN
X-WR-TIMEZONE;VALUE=TEXT:GMT
PRODID:PEAK Corporation - piCal -
X-WR-CALNAME;VALUE=TEXT:大京マンション近隣住民説明会
VERSION:2.0
METHOD:PUBLISH
BEGIN:VTIMEZONE
TZID:GMT
BEGIN:STANDARD
DTSTART:19390101T000000
TZOFFSETFROM:+0000
TZOFFSETTO:+0000
TZNAME:GMT
END:STANDARD
END:VTIMEZONE
BEGIN:VEVENT
DTSTART:20060107T020000Z
DTEND:20060107T030000Z
LOCATION:茅ヶ崎公園野球場 会議室
TRANSP:OPAQUE
SEQUENCE:0
UID:pical060-11422c27d12a5c8927727d850783ed46
DTSTAMP:20051228T115906Z
CATEGORIES:
DESCRIPTION:対象範囲：建物の高さの1.5倍の範囲内の住民
SUMMARY:大京マンション近隣住民説明会
PRIORITY:0
CLASS:PUBLIC
END:VEVENT
END:VCALENDAR
