BEGIN:VCALENDAR
CALSCALE:GREGORIAN
X-WR-TIMEZONE;VALUE=TEXT:GMT
PRODID:PEAK Corporation - piCal -
X-WR-CALNAME;VALUE=TEXT:事業スキーム等勉強会
VERSION:2.0
METHOD:PUBLISH
BEGIN:VTIMEZONE
TZID:GMT
BEGIN:STANDARD
DTSTART:19390101T000000
TZOFFSETFROM:+0000
TZOFFSETTO:+0000
TZNAME:GMT
END:STANDARD
END:VTIMEZONE
BEGIN:VEVENT
DTSTART:20060106T093000Z
DTEND:20060106T113000Z
LOCATION:茅ヶ崎市民活動サポートセンター
TRANSP:OPAQUE
SEQUENCE:2
UID:pical060-01396a5d0dec932e7b012a26444ed221
DTSTAMP:20060105T093605Z
CATEGORIES:
DESCRIPTION:日時　2006年1月6日（金）18:30〜\n主催　茅ヶ崎海岸を守る市民ネットワーク\n場所　茅ヶ崎市民活動サポートセンター\nお話　鈴木健一さん（神奈川県職員）\n　　　アリスセンター発行・たあとる通信2号で「PFIによる、行\n　　　政・企業・NPOの協働事業化を考える」をテーマに対談。\n\n※参加希望者は事前に連絡。\n
SUMMARY:事業スキーム等勉強会
PRIORITY:0
CLASS:PUBLIC
END:VEVENT
END:VCALENDAR
