BEGIN:VCALENDAR
CALSCALE:GREGORIAN
X-WR-TIMEZONE;VALUE=TEXT:GMT
PRODID:PEAK Corporation - piCal -
X-WR-CALNAME;VALUE=TEXT:市民ネットワーク作戦会議
VERSION:2.0
METHOD:PUBLISH
BEGIN:VTIMEZONE
TZID:GMT
BEGIN:STANDARD
DTSTART:19390101T000000
TZOFFSETFROM:+0000
TZOFFSETTO:+0000
TZNAME:GMT
END:STANDARD
END:VTIMEZONE
BEGIN:VEVENT
DTSTART:20060115T060000Z
DTEND:20060115T080000Z
LOCATION:サポートセンター
TRANSP:OPAQUE
SEQUENCE:0
UID:pical060-193516cc82ba8fc1a70969af748493bb
DTSTAMP:20060114T180252Z
CATEGORIES:
DESCRIPTION:
SUMMARY:市民ネットワーク作戦会議
PRIORITY:0
CLASS:PUBLIC
END:VEVENT
END:VCALENDAR
