BEGIN:VCALENDAR
CALSCALE:GREGORIAN
X-WR-TIMEZONE;VALUE=TEXT:GMT
PRODID:PEAK Corporation - piCal -
X-WR-CALNAME;VALUE=TEXT:第４回茅ヶ崎市景観まちづくり審議会
VERSION:2.0
METHOD:PUBLISH
BEGIN:VTIMEZONE
TZID:GMT
BEGIN:STANDARD
DTSTART:19390101T000000
TZOFFSETFROM:+0000
TZOFFSETTO:+0000
TZNAME:GMT
END:STANDARD
END:VTIMEZONE
BEGIN:VEVENT
DTSTART:20060119T010000Z
DTEND:20060119T030000Z
LOCATION:市役所分庁舎５階 特別会議室
TRANSP:OPAQUE
SEQUENCE:0
UID:pical060-585aa56e19e7017a249a9d2b5cf289d6
DTSTAMP:20060115T023326Z
CATEGORIES:
DESCRIPTION:フィシュ跡地のマンション建設計画に関して、景観まちづくり条例第24条2項にもとづいて審議されます。
SUMMARY:第４回茅ヶ崎市景観まちづくり審議会
PRIORITY:0
CLASS:PUBLIC
END:VEVENT
END:VCALENDAR
