BEGIN:VCALENDAR
CALSCALE:GREGORIAN
X-WR-TIMEZONE;VALUE=TEXT:GMT
PRODID:PEAK Corporation - piCal -
X-WR-CALNAME;VALUE=TEXT:署名提出（第２次）
VERSION:2.0
METHOD:PUBLISH
BEGIN:VTIMEZONE
TZID:GMT
BEGIN:STANDARD
DTSTART:19390101T000000
TZOFFSETFROM:+0000
TZOFFSETTO:+0000
TZNAME:GMT
END:STANDARD
END:VTIMEZONE
BEGIN:VEVENT
DTSTART:20060206T023000Z
DTEND:20060206T030000Z
LOCATION:茅ヶ崎市役所 市長室
TRANSP:OPAQUE
SEQUENCE:0
UID:pical060-b7688b9ae1b8c84ad4ca93210b09db7e
DTSTAMP:20060203T165744Z
CATEGORIES:
DESCRIPTION:市長室に服部信明市長を訪ね、署名の第２弾を提出します。
SUMMARY:署名提出（第２次）
PRIORITY:0
CLASS:PUBLIC
END:VEVENT
END:VCALENDAR
