BEGIN:VCALENDAR
CALSCALE:GREGORIAN
X-WR-TIMEZONE;VALUE=TEXT:GMT
PRODID:PEAK Corporation - piCal -
X-WR-CALNAME;VALUE=TEXT:街宣行動
VERSION:2.0
METHOD:PUBLISH
BEGIN:VTIMEZONE
TZID:GMT
BEGIN:STANDARD
DTSTART:19390101T000000
TZOFFSETFROM:+0000
TZOFFSETTO:+0000
TZNAME:GMT
END:STANDARD
END:VTIMEZONE
BEGIN:VEVENT
DTSTART:20060205T030000Z
DTEND:20060205T043000Z
LOCATION:
TRANSP:OPAQUE
SEQUENCE:0
UID:pical060-82e444af9d300a194a6d96652b65b8d9
DTSTAMP:20060204T173026Z
CATEGORIES:
DESCRIPTION:記者会見終了次第、フィッシュセンター跡地を起点にサザン通りと雄三通りの商店会練り歩き街宣活動を行います。
SUMMARY:街宣行動
PRIORITY:0
CLASS:PUBLIC
END:VEVENT
END:VCALENDAR
