BEGIN:VCALENDAR
CALSCALE:GREGORIAN
X-WR-TIMEZONE;VALUE=TEXT:GMT
PRODID:PEAK Corporation - piCal -
X-WR-CALNAME;VALUE=TEXT:バルーンによる社会実験
VERSION:2.0
METHOD:PUBLISH
BEGIN:VTIMEZONE
TZID:GMT
BEGIN:STANDARD
DTSTART:19390101T000000
TZOFFSETFROM:+0000
TZOFFSETTO:+0000
TZNAME:GMT
END:STANDARD
END:VTIMEZONE
BEGIN:VEVENT
DTSTART:20060124T230000Z
DTEND:20060125T010000Z
LOCATION:
TRANSP:OPAQUE
SEQUENCE:0
UID:pical060-2f9b8a92e63aeafc3da324e2f651f506
DTSTAMP:20060205T001350Z
CATEGORIES:
DESCRIPTION:実施日　：１月２５日（水）\n実施時間：午前８時〜１０時\n場　　所：計画地または計画隣接地\n\nこの時間に最高の高さに上げる予定。観測点は１０ポイントを予定。\n１　浜須賀歩道橋\n２　一中・えぼし歩道橋\n３　ヘッドランド先端部\n４　ヘッドランド・ボードウォーク\n５　茅ヶ崎公園歩道橋\n６　海岸青少年会館平和慰霊塔前\n７　サザンビーチ西側\n８　サザンビーチ東側\n９　茅ヶ崎漁港東堤防先端部\n１０国道134号上り線南湖入口バス停付近歩道\n\n実施方法：\n建物建築予定の4角にそれぞれバルーンを浮かべ最頂部より15mの位置に1箇所目印をつけ、高さを段階的に落としていく。\n設定高さ：\n４５ｍ　8:00〜08:30、３０ｍ　8:45〜09:15、１５ｍ　9:30〜10:00\n本部より高さセッティングが完了するごと各ポイントに連絡し風の具合をみながら揺れの少ないタイミングで撮影を行う。\n三脚にカメラを設置し定点観測を行う。\nまた、正確性を図るため8:15、9:00、9:45の時点で必ず一定時間撮影する。\n\n市が設定した撮影の決まり：\n次の時間には必ず最低各5枚づつ、標準および望遠撮影する。\n45m地点８：１５、30m地点９：００、15m地点９：４５\n撮影はカメラを三脚に固定して定点撮影する。カメラ設置高さは測定GLから約1.5Mとする。\n\n主催：茅ヶ崎市および茅ヶ崎市景観まちづくり審議会\n協力：早稲田大学芸術学校　都市デザイン科学生\n事務局：都市整備課\n\nこの実感検証等をもとに2月20日までに同審議会は市長に意見をまとめて答申する予定です。 
SUMMARY:バルーンによる社会実験
PRIORITY:0
CLASS:PUBLIC
END:VEVENT
END:VCALENDAR
