BEGIN:VCALENDAR
CALSCALE:GREGORIAN
X-WR-TIMEZONE;VALUE=TEXT:GMT
PRODID:PEAK Corporation - piCal -
X-WR-CALNAME;VALUE=TEXT:第５回茅ヶ崎市景観まちづくり審議会
VERSION:2.0
METHOD:PUBLISH
BEGIN:VTIMEZONE
TZID:GMT
BEGIN:STANDARD
DTSTART:19390101T000000
TZOFFSETFROM:+0000
TZOFFSETTO:+0000
TZNAME:GMT
END:STANDARD
END:VTIMEZONE
BEGIN:VEVENT
DTSTART:20060209T020000Z
DTEND:20060209T033000Z
LOCATION:茅ヶ崎市役所分庁舎５階特別会議室
TRANSP:OPAQUE
SEQUENCE:2
UID:pical060-30016d0586930f468426661825ddd186
DTSTAMP:20060208T035050Z
CATEGORIES:
DESCRIPTION:第５回茅ヶ崎市景観まちづくり審議会\n日時：平成１８年２月９日（木）１１：００〜１２：３０\n会場：茅ヶ崎市役所分庁舎５階特別会議室\n議題：\n中海岸４丁目フィッシュセンター跡地共同住宅建設計画に係る一定規模以上の建築物等の届出についての諮問に対する答申について\nその他\n\n茅ヶ崎市　都市部都市整備課　まちづくり担当\n電　話０４６７−８２−１１１１（内）２５３４\nＦＡＸ０４６７−５７−８３７７\nE-mail　<a href="mailto:toshiseibi@city.chigasaki.kanagawa.jp\n---------------\n傍聴可能ですので皆様も是非。">toshiseibi@city.chigasaki.kanagawa.jp\n---------------\n傍聴可能ですので皆様も是非。</a>
SUMMARY:第５回茅ヶ崎市景観まちづくり審議会
PRIORITY:0
CLASS:PUBLIC
END:VEVENT
END:VCALENDAR
